BEGIN:VCALENDAR
VERSION:2.0
PRODID:-//BizPlus - ECPv4.6.2//NONSGML v1.0//EN
CALSCALE:GREGORIAN
METHOD:PUBLISH
X-WR-CALNAME:BizPlus
X-ORIGINAL-URL:https://bizplus.ie
X-WR-CALDESC:Events for BizPlus
BEGIN:VEVENT
DTSTART;TZID=Europe/Dublin:20160623T100000
DTEND;TZID=Europe/Dublin:20160625T170000
DTSTAMP:20171025T154827
CREATED:20160505T141040Z
LAST-MODIFIED:20160505T141040Z
UID:18872-1466676000-1466874000@bizplus.ie
SUMMARY:World Of Coffee 2016
DESCRIPTION:World of Coffee is a sizeable coffee gathering\, bringing thousands of coffee professionals and enthusiasts together over three days for a celebration of speciality coffee. The event is owned and organised by the Speciality Coffee Association of Europe (SCAE). The 16th annual World Barista Championships will be held before the festival proper\, on June 22\, in the RDS\, which the public can attend. A three-day pass from June 23-25 costs €30 (VAT inclusive). \n
URL:https://bizplus.ie/event/world-of-coffee-2016/
LOCATION:Ballsbridge\,\, Dublin 4
GEO:53.3332893;-6.2371981
X-APPLE-STRUCTURED-LOCATION;VALUE=URI;X-ADDRESS=Ballsbridge Dublin 4;X-APPLE-RADIUS=500;X-TITLE=Ballsbridge\,:geo:-6.2371981,53.3332893
END:VEVENT
END:VCALENDAR