BEGIN:VCALENDAR
VERSION:2.0
PRODID:-//BizPlus - ECPv4.6.2//NONSGML v1.0//EN
CALSCALE:GREGORIAN
METHOD:PUBLISH
X-WR-CALNAME:BizPlus
X-ORIGINAL-URL:https://bizplus.ie
X-WR-CALDESC:Events for BizPlus
BEGIN:VEVENT
DTSTART;TZID=Europe/Dublin:20160419T090000
DTEND;TZID=Europe/Dublin:20160419T160000
DTSTAMP:20171025T151243
CREATED:20160404T093911Z
LAST-MODIFIED:20160404T093911Z
UID:17262-1461056400-1461081600@bizplus.ie
SUMMARY:Workshop: Extracting Business Value From Twitter
DESCRIPTION:NUI Galway will host the second Twitter Mixed Days conference from April 19 to 20\, which this workshops session forms part of. It is designed to arm participants with the knowledge to extract real business value from the Twitter platform and the data it produces\, with Joe Rice from Twitter delivering the keynote talk. Additional workshops on the day will focus on Twitter for beginners and how to use Twitter to generate leads. Tickets for the workshop cost €120. \n
URL:https://bizplus.ie/event/workshop-extracting-business-value-from-twitter/
LOCATION:University Road\, \, Galway
GEO:53.2768889;-9.0627893
X-APPLE-STRUCTURED-LOCATION;VALUE=URI;X-ADDRESS=University Road  Galway;X-APPLE-RADIUS=500;X-TITLE=University Road\,:geo:-9.0627893,53.2768889
END:VEVENT
END:VCALENDAR