BEGIN:VCALENDAR
VERSION:2.0
PRODID:-//BizPlus - ECPv4.6.2//NONSGML v1.0//EN
CALSCALE:GREGORIAN
METHOD:PUBLISH
X-WR-CALNAME:BizPlus
X-ORIGINAL-URL:https://bizplus.ie
X-WR-CALDESC:Events for BizPlus
BEGIN:VEVENT
DTSTART;TZID=Europe/Dublin:20160422T123000
DTEND;TZID=Europe/Dublin:20160422T153000
DTSTAMP:20171025T151534
CREATED:20160330T111707Z
LAST-MODIFIED:20160330T111707Z
UID:16998-1461328200-1461339000@bizplus.ie
SUMMARY:'Women in Leadership' Executive Lunch
DESCRIPTION:Network Cork\, the Cork branch of Network Ireland\, along with Cork Chamber\, are hosting this executive\, with special guest speaker Deirdre Somers\, chief executive of the Irish Stock Exchange and one of Ireland’s most prominent business women. The executive lunch will celebrate the high calibre of women in leadership positions. Tickets cost €60 including booking fee. \n
URL:https://bizplus.ie/event/women-in-leadership-executive-lunch/
LOCATION:St Luke's\, \, Cork
GEO:51.9055978;-8.4595944
X-APPLE-STRUCTURED-LOCATION;VALUE=URI;X-ADDRESS=St Luke's  Cork;X-APPLE-RADIUS=500;X-TITLE=St Luke's\,:geo:-8.4595944,51.9055978
END:VEVENT
END:VCALENDAR