BEGIN:VCALENDAR
VERSION:2.0
PRODID:-//BizPlus - ECPv4.6.2//NONSGML v1.0//EN
CALSCALE:GREGORIAN
METHOD:PUBLISH
X-WR-CALNAME:BizPlus
X-ORIGINAL-URL:https://bizplus.ie
X-WR-CALDESC:Events for BizPlus
BEGIN:VEVENT
DTSTART;TZID=Europe/Dublin:20160419T100000
DTEND;TZID=Europe/Dublin:20160419T170000
DTSTAMP:20171025T151343
CREATED:20160226T160958Z
LAST-MODIFIED:20160226T160958Z
UID:15549-1461060000-1461085200@bizplus.ie
SUMMARY:WhatsWhat.ie Biz Expo
DESCRIPTION:\n\nThis free event is aimed at SMEs nationwide who want to showcase themselves and get out of their normal networking area. Free WiFi and parking will be provided and a competition will be organised to further promote the participants. \n\n\n
URL:https://bizplus.ie/event/whatswhat-ie-biz-expo/
LOCATION:Saggart\, \, Co. Dublin.
GEO:53.2808397;-6.4431841
X-APPLE-STRUCTURED-LOCATION;VALUE=URI;X-ADDRESS=Saggart  Co. Dublin.;X-APPLE-RADIUS=500;X-TITLE=Saggart\,:geo:-6.4431841,53.2808397
END:VEVENT
END:VCALENDAR