BEGIN:VCALENDAR
VERSION:2.0
PRODID:-//BizPlus - ECPv4.6.2//NONSGML v1.0//EN
CALSCALE:GREGORIAN
METHOD:PUBLISH
X-WR-CALNAME:BizPlus
X-ORIGINAL-URL:https://bizplus.ie
X-WR-CALDESC:Events for BizPlus
BEGIN:VEVENT
DTSTART;TZID=Europe/Dublin:20160427T090000
DTEND;TZID=Europe/Dublin:20160428T183000
DTSTAMP:20171025T151718
CREATED:20160226T153701Z
LAST-MODIFIED:20160226T153701Z
UID:15538-1461747600-1461868200@bizplus.ie
SUMMARY:Ticketing Technology Forum
DESCRIPTION:This forum will explore\, debate and showcase the latest trends\, innovations and technologies for the live entertainment ticketing business sector. Presentations\, demonstrations\, discussions and P2P networking opportunities are all on the agenda. Tickets cost around €1\,600 including VAT. \n
URL:https://bizplus.ie/event/ticketing-technology-forum/
LOCATION:Northwood Avenue\, \, Dublin 9
GEO:53.4047005;-6.2527073
X-APPLE-STRUCTURED-LOCATION;VALUE=URI;X-ADDRESS=Northwood Avenue  Dublin 9;X-APPLE-RADIUS=500;X-TITLE=Northwood Avenue\,:geo:-6.2527073,53.4047005
CATEGORIES:Technology
END:VEVENT
END:VCALENDAR