BEGIN:VCALENDAR
VERSION:2.0
PRODID:-//BizPlus - ECPv4.6.2//NONSGML v1.0//EN
CALSCALE:GREGORIAN
METHOD:PUBLISH
X-WR-CALNAME:BizPlus
X-ORIGINAL-URL:https://bizplus.ie
X-WR-CALDESC:Events for BizPlus
BEGIN:VEVENT
DTSTART;TZID=Europe/Dublin:20160204T160000
DTEND;TZID=Europe/Dublin:20160204T210000
DTSTAMP:20171025T144639
CREATED:20160112T111820Z
LAST-MODIFIED:20160112T111820Z
UID:13372-1454601600-1454619600@bizplus.ie
SUMMARY:Student Summit 2016
DESCRIPTION:This event is expected to attract over 600 students and 40-plus startups\, who will gather for 22 workshops and presentations by business speakers from Silicon Valley and Ireland. Enterprise Ireland is sponsoring a €1\,500 prize for the winner of a student startup pitch. A panel of judges will narrow down applications to the ten best from the online submissions and the public will be able to vote for their favourite two on Twitter and Facebook. \nThe summit is organised for second- and third-level students; tickets range from around €5 to €11.50. \n
URL:https://bizplus.ie/event/student-summit-2016/
LOCATION:Dame Street\, \, Dublin 2
GEO:53.344183;-6.2648142
X-APPLE-STRUCTURED-LOCATION;VALUE=URI;X-ADDRESS=Dame Street  Dublin 2;X-APPLE-RADIUS=500;X-TITLE=Dame Street\,:geo:-6.2648142,53.344183
END:VEVENT
END:VCALENDAR