BEGIN:VCALENDAR
VERSION:2.0
PRODID:-//BizPlus - ECPv4.6.2//NONSGML v1.0//EN
CALSCALE:GREGORIAN
METHOD:PUBLISH
X-WR-CALNAME:BizPlus
X-ORIGINAL-URL:https://bizplus.ie
X-WR-CALDESC:Events for BizPlus
BEGIN:VEVENT
DTSTART;TZID=Europe/Dublin:20160201T140000
DTEND;TZID=Europe/Dublin:20160201T193000
DTSTAMP:20171025T144445
CREATED:20160201T093713Z
LAST-MODIFIED:20160201T093713Z
UID:14005-1454335200-1454355000@bizplus.ie
SUMMARY:SFA Business Awards -- Small Business Showcase
DESCRIPTION:This free event will showcase the 38 finalists in the SFA National Small Business Awards 2016\, who hail from a variety of sectors and 16 different counties. Newstalk’s Bobby Kerr will speak at the event\, while the keynote speaker will be Rasmus Ankersen\, a best-selling author\, entrepreneur and performance development speaker. \n
URL:https://bizplus.ie/event/sfa-business-awards-small-business-showcase/
LOCATION:Golden Lane\,\, Dublin 8
GEO:53.3404539;-6.2691614
X-APPLE-STRUCTURED-LOCATION;VALUE=URI;X-ADDRESS=Golden Lane Dublin 8;X-APPLE-RADIUS=500;X-TITLE=Golden Lane\,:geo:-6.2691614,53.3404539
END:VEVENT
END:VCALENDAR