BEGIN:VCALENDAR
VERSION:2.0
PRODID:-//BizPlus - ECPv4.6.2//NONSGML v1.0//EN
CALSCALE:GREGORIAN
METHOD:PUBLISH
X-WR-CALNAME:BizPlus
X-ORIGINAL-URL:https://bizplus.ie
X-WR-CALDESC:Events for BizPlus
BEGIN:VEVENT
DTSTART;TZID=Europe/Dublin:20160519T093000
DTEND;TZID=Europe/Dublin:20160519T170000
DTSTAMP:20171025T153030
CREATED:20160512T084728Z
LAST-MODIFIED:20160512T084728Z
UID:19165-1463650200-1463677200@bizplus.ie
SUMMARY:Seminar: Making PR Work For Business
DESCRIPTION:Managing Director of Springboard PR & Marketing\, Susie Horgan\, will deliver this PR programme over two days for the Local Enterprise Office South Cork. The second part of the programme will take place on May 26\, from 9.30am till 5pm\, again in Cork International Hotel. Topics addressed in the course will include an introduction and practical guide to PR\, traditional PR\, new media and how to write an eye-catching media release. Tickets for the two-day event are priced at €75. \n
URL:https://bizplus.ie/event/seminar-making-pr-work-for-business/
LOCATION:Cork Airport Business Park\, \, Cork
GEO:51.85078;-8.48232
X-APPLE-STRUCTURED-LOCATION;VALUE=URI;X-ADDRESS=Cork Airport Business Park  Cork;X-APPLE-RADIUS=500;X-TITLE=Cork Airport Business Park\,:geo:-8.48232,51.85078
END:VEVENT
END:VCALENDAR