BEGIN:VCALENDAR
VERSION:2.0
PRODID:-//BizPlus - ECPv4.6.2//NONSGML v1.0//EN
CALSCALE:GREGORIAN
METHOD:PUBLISH
X-WR-CALNAME:BizPlus
X-ORIGINAL-URL:https://bizplus.ie
X-WR-CALDESC:Events for BizPlus
BEGIN:VEVENT
DTSTART;TZID=Europe/Dublin:20160512T090000
DTEND;TZID=Europe/Dublin:20160512T163000
DTSTAMP:20171025T152805
CREATED:20160315T112813Z
LAST-MODIFIED:20160315T112813Z
UID:16457-1463043600-1463070600@bizplus.ie
SUMMARY:Secure Computing Forum
DESCRIPTION:Organised by Data Solutions\, this forum will look at the various security threats facing Irish businesses and offer advice on how to combat them. Data protection regulations will also be explained\, as will the steps to take to boost cloud security\, among other topics. Speakers will include Dr Robert Griffin\, chief security architect of RSA. Tickets cost €30. \n
URL:https://bizplus.ie/event/secure-computing-forum/
LOCATION:Dublin 2.
GEO:53.2982612;-6.180611
CATEGORIES:Technology
END:VEVENT
END:VCALENDAR