BEGIN:VCALENDAR
VERSION:2.0
PRODID:-//BizPlus - ECPv4.6.2//NONSGML v1.0//EN
CALSCALE:GREGORIAN
METHOD:PUBLISH
X-WR-CALNAME:BizPlus
X-ORIGINAL-URL:https://bizplus.ie
X-WR-CALDESC:Events for BizPlus
BEGIN:VEVENT
DTSTART;TZID=Europe/Dublin:20160602T083000
DTEND;TZID=Europe/Dublin:20160602T160500
DTSTAMP:20171025T153746
CREATED:20160505T130931Z
LAST-MODIFIED:20160506T140548Z
UID:18864-1464856200-1464883500@bizplus.ie
SUMMARY:SAI Annual Convention 2016
DESCRIPTION:The Society of Actuaries in Ireland is holding a full-day conference this year for its members\, which will feature discussion on cyber risk modelling and capital optimisation\, among other topics. Tickets cost €150. \n
URL:https://bizplus.ie/event/sai-annual-conference-2016/
LOCATION:North Wall Quay\,\, Dublin 1
GEO:53.3481341;-6.2450651
X-APPLE-STRUCTURED-LOCATION;VALUE=URI;X-ADDRESS=North Wall Quay Dublin 1;X-APPLE-RADIUS=500;X-TITLE=North Wall Quay\,:geo:-6.2450651,53.3481341
END:VEVENT
END:VCALENDAR