BEGIN:VCALENDAR
VERSION:2.0
PRODID:-//BizPlus - ECPv4.6.2//NONSGML v1.0//EN
CALSCALE:GREGORIAN
METHOD:PUBLISH
X-WR-CALNAME:BizPlus
X-ORIGINAL-URL:https://bizplus.ie
X-WR-CALDESC:Events for BizPlus
BEGIN:VEVENT
DTSTART;TZID=Europe/Dublin:20160429T080000
DTEND;TZID=Europe/Dublin:20160430T170000
DTSTAMP:20171025T152001
CREATED:20151130T115404Z
LAST-MODIFIED:20151130T115404Z
UID:11859-1461916800-1462035600@bizplus.ie
SUMMARY:RTE Mojocon
DESCRIPTION:Experts from Mashable\, Aljazeera\,  BBC\, RYOT and Oracle will feature in this international conference on mobile content creation.  The conference is aimed at journalists from print\, radio\, online and television\, as well as PR professionals and media and journalism students. It will also appeal to mobile photography enthusiasts\, media executives\, and members of the public with an interest in mobile and social. \n  \n
URL:https://bizplus.ie/event/rte-mojocon/
CATEGORIES:Technology
END:VEVENT
END:VCALENDAR