BEGIN:VCALENDAR
VERSION:2.0
PRODID:-//BizPlus - ECPv4.6.2//NONSGML v1.0//EN
CALSCALE:GREGORIAN
METHOD:PUBLISH
X-WR-CALNAME:BizPlus
X-ORIGINAL-URL:https://bizplus.ie
X-WR-CALDESC:Events for BizPlus
BEGIN:VEVENT
DTSTART;TZID=Europe/Dublin:20160303T090000
DTEND;TZID=Europe/Dublin:20160303T170000
DTSTAMP:20171025T145853
CREATED:20160225T100535Z
LAST-MODIFIED:20160225T100535Z
UID:15394-1456995600-1457024400@bizplus.ie
SUMMARY:Research And Innovation Conference And Exhibition
DESCRIPTION:Built around the government’s Innovation 2020 strategy\, this event will attract over 1\,000 leaders in research and innovation to discuss how to make Ireland a global knowledge leader and a major hub of scientific and engineering research. More than 100 speakers will participate in the event over eight stages\, including industry leaders from sectors such as pharma\, medtech\, biotech and ICT. Registration to attend the event is currently free of charge. \n
URL:https://bizplus.ie/event/research-and-innovation-conference-and-exhibition/
LOCATION:Jones' Road\, \, Dublin 3
GEO:53.3625281;-6.2523783
X-APPLE-STRUCTURED-LOCATION;VALUE=URI;X-ADDRESS=Jones' Road  Dublin 3;X-APPLE-RADIUS=500;X-TITLE=Jones' Road\,:geo:-6.2523783,53.3625281
CATEGORIES:Conference
END:VEVENT
END:VCALENDAR