BEGIN:VCALENDAR
VERSION:2.0
PRODID:-//BizPlus - ECPv4.6.2//NONSGML v1.0//EN
CALSCALE:GREGORIAN
METHOD:PUBLISH
X-WR-CALNAME:BizPlus
X-ORIGINAL-URL:https://bizplus.ie
X-WR-CALDESC:Events for BizPlus
BEGIN:VEVENT
DTSTART;TZID=Europe/Dublin:20171028T090000
DTEND;TZID=Europe/Dublin:20171029T180000
DTSTAMP:20171105T151340
CREATED:20170824T085206Z
LAST-MODIFIED:20170824T085206Z
UID:40701-1509181200-1509300000@bizplus.ie
SUMMARY:PlayersXpo
DESCRIPTION:This INM-organised event is the first such PlayersXpo to be held in Ireland\, bringing together gamers\, exhibitors and talkers in a two-day event. Some of the internet’s big gaming\, YouTube and blogging stars will be present for the gathering and it will be full of showcases for new and retro games. \nTickets are available for various time slots during the day\, similar to the Taste of Dublin setup. They vary in price from €25 to €99. \n
URL:https://bizplus.ie/event/playersxpo/
LOCATION:North Wall Quay\,\, Dublin 1
GEO:53.3481341;-6.2450651
X-APPLE-STRUCTURED-LOCATION;VALUE=URI;X-ADDRESS=North Wall Quay Dublin 1;X-APPLE-RADIUS=500;X-TITLE=North Wall Quay\,:geo:-6.2450651,53.3481341
END:VEVENT
END:VCALENDAR