BEGIN:VCALENDAR
VERSION:2.0
PRODID:-//BizPlus - ECPv4.6.2//NONSGML v1.0//EN
CALSCALE:GREGORIAN
METHOD:PUBLISH
X-WR-CALNAME:BizPlus
X-ORIGINAL-URL:https://bizplus.ie
X-WR-CALDESC:Events for BizPlus
BEGIN:VEVENT
DTSTART;TZID=Europe/Dublin:20160303T090000
DTEND;TZID=Europe/Dublin:20160304T170000
DTSTAMP:20171025T145733
CREATED:20160107T101605Z
LAST-MODIFIED:20160107T101605Z
UID:13208-1456995600-1457110800@bizplus.ie
SUMMARY:OUG Ireland 2016
DESCRIPTION:Oracle User Group Ireland will return for its 12th outing with this two-day event. A comprehensive range of topics will be covered\, including big data and advanced analytics; databases; digital CX; middleware; operating systems\, virtualisation and networking\, and the Oracle E-Business Suite. \n
URL:https://bizplus.ie/event/oug-ireland-2016/
LOCATION:O'Connell Street\, \, Dublin
GEO:53.3512416;-6.2607789
X-APPLE-STRUCTURED-LOCATION;VALUE=URI;X-ADDRESS=O'Connell Street  Dublin;X-APPLE-RADIUS=500;X-TITLE=O'Connell Street\,:geo:-6.2607789,53.3512416
CATEGORIES:Technology
END:VEVENT
END:VCALENDAR