BEGIN:VCALENDAR
VERSION:2.0
PRODID:-//BizPlus - ECPv4.6.2//NONSGML v1.0//EN
CALSCALE:GREGORIAN
METHOD:PUBLISH
X-WR-CALNAME:BizPlus
X-ORIGINAL-URL:https://bizplus.ie
X-WR-CALDESC:Events for BizPlus
BEGIN:VEVENT
DTSTART;TZID=Europe/Dublin:20160524T073000
DTEND;TZID=Europe/Dublin:20160524T143000
DTSTAMP:20171025T153253
CREATED:20160405T091844Z
LAST-MODIFIED:20160407T145716Z
UID:17347-1464075000-1464100200@bizplus.ie
SUMMARY:National Sales Leaders Summit
DESCRIPTION:The Sales Institute’s flagship annual event will focus for this year’s theme on the elements of ‘disruption\, motivation and acceleration’. Speakers will include Kieran Harte\, general manager of Uber Ireland. Tickets range in price from €395 for a group member ticket to €695 for non-Sales Institute members. Individuals/SME members’ tickets cost €595. \n
URL:https://bizplus.ie/event/national-sales-leaders-summit/
LOCATION:Ballsbridge\, \, Dublin 4
GEO:53.3332893;-6.2371981
X-APPLE-STRUCTURED-LOCATION;VALUE=URI;X-ADDRESS=Ballsbridge  Dublin 4;X-APPLE-RADIUS=500;X-TITLE=Ballsbridge\,:geo:-6.2371981,53.3332893
END:VEVENT
END:VCALENDAR