BEGIN:VCALENDAR
VERSION:2.0
PRODID:-//BizPlus - ECPv4.6.2//NONSGML v1.0//EN
CALSCALE:GREGORIAN
METHOD:PUBLISH
X-WR-CALNAME:BizPlus
X-ORIGINAL-URL:https://bizplus.ie
X-WR-CALDESC:Events for BizPlus
BEGIN:VEVENT
DTSTART;TZID=Europe/Dublin:20160615T090000
DTEND;TZID=Europe/Dublin:20160615T163000
DTSTAMP:20171025T154251
CREATED:20160505T135819Z
LAST-MODIFIED:20160505T135819Z
UID:18871-1465981200-1466008200@bizplus.ie
SUMMARY:National Construction Summit 2016
DESCRIPTION:The second annual National Construction Summit will bring together over 2\,000 construction companies\, developers\, policy makers and others involved in the construction sector to stimulate debate on how Ireland can rebuild its construction and property industry in a sustainable manner. Attendance is free but registration is required. \n
URL:https://bizplus.ie/event/national-construction-summit-2016/
LOCATION:Ballsbridge\,\, Dublin 4
GEO:53.3332893;-6.2371981
X-APPLE-STRUCTURED-LOCATION;VALUE=URI;X-ADDRESS=Ballsbridge Dublin 4;X-APPLE-RADIUS=500;X-TITLE=Ballsbridge\,:geo:-6.2371981,53.3332893
CATEGORIES:Construction
END:VEVENT
END:VCALENDAR