BEGIN:VCALENDAR
VERSION:2.0
PRODID:-//BizPlus - ECPv4.6.2//NONSGML v1.0//EN
CALSCALE:GREGORIAN
METHOD:PUBLISH
X-WR-CALNAME:BizPlus
X-ORIGINAL-URL:https://bizplus.ie
X-WR-CALDESC:Events for BizPlus
BEGIN:VEVENT
DTSTART;TZID=Europe/Dublin:20160407T090000
DTEND;TZID=Europe/Dublin:20160407T130000
DTSTAMP:20171025T150806
CREATED:20160202T162255Z
LAST-MODIFIED:20160202T162255Z
UID:14108-1460019600-1460034000@bizplus.ie
SUMMARY:Legal Costs Seminar
DESCRIPTION:Ashville Media Group is behind this half-day seminar\, which will examine all areas of legal costs\, along with the principles governing the taxation of costs and the effect recent changes have had on legal practitioners. Keynote speaker at the event will be Shane Galligan\, partner\, Behan & Associates. Early-bird tickets cost just under €250 including VAT. \n
URL:https://bizplus.ie/event/legal-costs-seminar/
LOCATION:Pearse Street\, \, Dublin 2.
GEO:53.2760129;-6.1384568
X-APPLE-STRUCTURED-LOCATION;VALUE=URI;X-ADDRESS=Pearse Street  Dublin 2.;X-APPLE-RADIUS=500;X-TITLE=Pearse Street\,:geo:-6.1384568,53.2760129
END:VEVENT
END:VCALENDAR