BEGIN:VCALENDAR
VERSION:2.0
PRODID:-//BizPlus - ECPv4.6.2//NONSGML v1.0//EN
CALSCALE:GREGORIAN
METHOD:PUBLISH
X-WR-CALNAME:BizPlus
X-ORIGINAL-URL:https://bizplus.ie
X-WR-CALDESC:Events for BizPlus
BEGIN:VEVENT
DTSTART;TZID=Europe/Dublin:20160603T120000
DTEND;TZID=Europe/Dublin:20160603T150000
DTSTAMP:20171025T153903
CREATED:20160505T143619Z
LAST-MODIFIED:20160505T143619Z
UID:18875-1464955200-1464966000@bizplus.ie
SUMMARY:ISME Annual Lunch 2016
DESCRIPTION:Around 500 Irish Small and Medium Enterprises Association members are expected at this business lunch\, which will be attended by special guest Martin Naughton. A seasoned Irish entrepreneur who founded Glen Electric\, Naughton will accept the ISME Medal and present the SME lecture. Tickets cost €60 including VAT. \n
URL:https://bizplus.ie/event/isme-annual-lunch-2016/
LOCATION:Jones Road\, \, Dublin 3
GEO:53.3625282;-6.2523786
X-APPLE-STRUCTURED-LOCATION;VALUE=URI;X-ADDRESS=Jones Road  Dublin 3;X-APPLE-RADIUS=500;X-TITLE=Jones Road\,:geo:-6.2523786,53.3625282
END:VEVENT
END:VCALENDAR