BEGIN:VCALENDAR
VERSION:2.0
PRODID:-//BizPlus - ECPv4.6.2//NONSGML v1.0//EN
CALSCALE:GREGORIAN
METHOD:PUBLISH
X-WR-CALNAME:BizPlus
X-ORIGINAL-URL:https://bizplus.ie
X-WR-CALDESC:Events for BizPlus
BEGIN:VEVENT
DTSTART;TZID=Europe/Dublin:20160225T090000
DTEND;TZID=Europe/Dublin:20160225T170000
DTSTAMP:20171025T145341
CREATED:20151210T114258Z
LAST-MODIFIED:20151210T114258Z
UID:12516-1456390800-1456419600@bizplus.ie
SUMMARY:Irish Sponsorship Summit 2016
DESCRIPTION:Over 300 of the industry’s most influential figures are expected to gather for this summit\, to share insights and spark discussion on the future of sponsorship in Ireland. Eight international keynote speakers have been pencilled in\, among them Matthew Leopold\, head of sponsorship with British Gas\, and Mark Harrison\, CEO of the T1 Agency. Tickets range in price\, depending on dates — a €499 two-for-one offer is available up to December 18. Tickets cost €349 after December 18 and €499 after February 5. \n
URL:https://bizplus.ie/event/irish-sponsorship-summit-2016/
LOCATION:Jones' Road\, \, Dublin 3
GEO:53.3625281;-6.2523783
X-APPLE-STRUCTURED-LOCATION;VALUE=URI;X-ADDRESS=Jones' Road  Dublin 3;X-APPLE-RADIUS=500;X-TITLE=Jones' Road\,:geo:-6.2523783,53.3625281
END:VEVENT
END:VCALENDAR