BEGIN:VCALENDAR
VERSION:2.0
PRODID:-//BizPlus - ECPv4.6.2//NONSGML v1.0//EN
CALSCALE:GREGORIAN
METHOD:PUBLISH
X-WR-CALNAME:BizPlus
X-ORIGINAL-URL:https://bizplus.ie
X-WR-CALDESC:Events for BizPlus
BEGIN:VEVENT
DTSTART;TZID=Europe/Dublin:20160602T123000
DTEND;TZID=Europe/Dublin:20160602T153000
DTSTAMP:20171025T153811
CREATED:20160506T131047Z
LAST-MODIFIED:20160506T131047Z
UID:18914-1464870600-1464881400@bizplus.ie
SUMMARY:Irish Proshare Association Annual Lunch 2016
DESCRIPTION:The Irish ProShare Association (IPSA) is a not-for-profit voluntary group that represents organisations that are employee-owned or transitioning to employee ownership across Ireland. Guest speaker for the IPSA’s annual lunch this year is Dr. Tony Bates of Headstrong\, an organisation addressing youth mental health. Tickets cost €80 per person. \n
URL:https://bizplus.ie/event/irish-proshare-association-annual-lunch-2016/
LOCATION:Ormond Quay Lower\, \, Dublin 1
GEO:53.3464114;-6.2651551
X-APPLE-STRUCTURED-LOCATION;VALUE=URI;X-ADDRESS=Ormond Quay Lower  Dublin 1;X-APPLE-RADIUS=500;X-TITLE=Ormond Quay Lower\,:geo:-6.2651551,53.3464114
END:VEVENT
END:VCALENDAR