BEGIN:VCALENDAR
VERSION:2.0
PRODID:-//BizPlus - ECPv4.6.2//NONSGML v1.0//EN
CALSCALE:GREGORIAN
METHOD:PUBLISH
X-WR-CALNAME:BizPlus
X-ORIGINAL-URL:https://bizplus.ie
X-WR-CALDESC:Events for BizPlus
BEGIN:VEVENT
DTSTART;TZID=Europe/Dublin:20160301T080000
DTEND;TZID=Europe/Dublin:20160302T180000
DTSTAMP:20171025T145518
CREATED:20160202T155050Z
LAST-MODIFIED:20160202T155050Z
UID:14100-1456819200-1456941600@bizplus.ie
SUMMARY:Irish Gaming\, Casino And Amusement Show
DESCRIPTION:The 37th Irish Gaming Show gathering will see Irish industry representatives from the casino\, bingo\, amusement\, machines\, lottery and online sectors in attendance at the free event. Among the topics for discussion will be the new legislation introduced for the gaming sector. \n
URL:https://bizplus.ie/event/irish-gaming-casino-and-amusement-show/
LOCATION:Naas Road\, \, Dublin 22
GEO:53.3331505;-6.329736
X-APPLE-STRUCTURED-LOCATION;VALUE=URI;X-ADDRESS=Naas Road  Dublin 22;X-APPLE-RADIUS=500;X-TITLE=Naas Road\,:geo:-6.329736,53.3331505
END:VEVENT
END:VCALENDAR