BEGIN:VCALENDAR
VERSION:2.0
PRODID:-//BizPlus - ECPv4.6.2//NONSGML v1.0//EN
CALSCALE:GREGORIAN
METHOD:PUBLISH
X-WR-CALNAME:BizPlus
X-ORIGINAL-URL:https://bizplus.ie
X-WR-CALDESC:Events for BizPlus
BEGIN:VEVENT
DTSTART;TZID=Europe/Dublin:20160908T120000
DTEND;TZID=Europe/Dublin:20160910T000000
DTSTAMP:20171025T160630
CREATED:20160808T105514Z
LAST-MODIFIED:20160808T105514Z
UID:23291-1473336000-1473465600@bizplus.ie
SUMMARY:Irish Craft Beer Festival
DESCRIPTION:The Irish Craft Beer Festival returns to the RDS\, Dublin\, from September 8 to 10. Billed as a celebration of Irish craft brewing\, live music and artisan food\, the event will feature over 20 Irish craft breweries\, craft cider producers and international guest breweries. Day tickets cost €10 and opening hours vary over the three days. \n  \n
URL:https://bizplus.ie/event/irish-craft-beer-festival/
LOCATION:Ballsbridge\,\, Dublin 4
GEO:53.3332893;-6.2371981
X-APPLE-STRUCTURED-LOCATION;VALUE=URI;X-ADDRESS=Ballsbridge Dublin 4;X-APPLE-RADIUS=500;X-TITLE=Ballsbridge\,:geo:-6.2371981,53.3332893
END:VEVENT
END:VCALENDAR