BEGIN:VCALENDAR
VERSION:2.0
PRODID:-//BizPlus - ECPv4.6.2//NONSGML v1.0//EN
CALSCALE:GREGORIAN
METHOD:PUBLISH
X-WR-CALNAME:BizPlus
X-ORIGINAL-URL:https://bizplus.ie
X-WR-CALDESC:Events for BizPlus
BEGIN:VEVENT
DTSTART;TZID=Europe/Dublin:20160528T090000
DTEND;TZID=Europe/Dublin:20160528T153000
DTSTAMP:20171025T153623
CREATED:20160509T153349Z
LAST-MODIFIED:20160509T153349Z
UID:19054-1464426000-1464449400@bizplus.ie
SUMMARY:Investing & Trading Summit
DESCRIPTION:This Institute of Investing and Financial Trading (IIFT) summit will invite a variety of market experts to provide insights and views on what’s been happening and where to next. Key topics will include Brexit\, the impressive performance of commodities\, volatility in equities\, the property outlook in Ireland\, Europe and elsewhere\, the strengthening Euro and more. Tickets cost €40. \n
URL:https://bizplus.ie/event/investing-trading-summit/
LOCATION:Belfield\, \, Dublin 4
GEO:53.3046659;-6.2215599
X-APPLE-STRUCTURED-LOCATION;VALUE=URI;X-ADDRESS=Belfield  Dublin 4;X-APPLE-RADIUS=500;X-TITLE=Belfield\,:geo:-6.2215599,53.3046659
CATEGORIES:Finance
END:VEVENT
END:VCALENDAR