BEGIN:VCALENDAR
VERSION:2.0
PRODID:-//BizPlus - ECPv4.6.2//NONSGML v1.0//EN
CALSCALE:GREGORIAN
METHOD:PUBLISH
X-WR-CALNAME:BizPlus
X-ORIGINAL-URL:https://bizplus.ie
X-WR-CALDESC:Events for BizPlus
BEGIN:VEVENT
DTSTART;TZID=Europe/Dublin:20160514T090000
DTEND;TZID=Europe/Dublin:20160514T123000
DTSTAMP:20171025T152905
CREATED:20160419T142344Z
LAST-MODIFIED:20160419T142344Z
UID:18144-1463216400-1463229000@bizplus.ie
SUMMARY:Investing For Beginners
DESCRIPTION:This foundation course\, delivered by Peter Brown in the Institute of Investing and Financial Trading\, is an A-Z explanation of what investing is all about\, in plain and simple language. Among the topics covered are the various types of stock\, as well as a run-through of equity markets and buying tips. Attendance costs €195. \n
URL:https://bizplus.ie/event/investing-for-beginners/
LOCATION:26 Lower Baggot Street\, \, Dublin 2
GEO:53.3375838;-6.2506729
X-APPLE-STRUCTURED-LOCATION;VALUE=URI;X-ADDRESS=26 Lower Baggot Street  Dublin 2;X-APPLE-RADIUS=500;X-TITLE=26 Lower Baggot Street\,:geo:-6.2506729,53.3375838
END:VEVENT
END:VCALENDAR