BEGIN:VCALENDAR
VERSION:2.0
PRODID:-//BizPlus - ECPv4.6.2//NONSGML v1.0//EN
CALSCALE:GREGORIAN
METHOD:PUBLISH
X-WR-CALNAME:BizPlus
X-ORIGINAL-URL:https://bizplus.ie
X-WR-CALDESC:Events for BizPlus
BEGIN:VEVENT
DTSTART;TZID=Europe/Dublin:20160705T090000
DTEND;TZID=Europe/Dublin:20160705T155000
DTSTAMP:20171025T155157
CREATED:20160621T113149Z
LAST-MODIFIED:20160621T131303Z
UID:20908-1467709200-1467733800@bizplus.ie
SUMMARY:Internet Of Things Training Day
DESCRIPTION:Irish tech startup VT Networks is organising this free technical training day to allow companies to accelerate their Internet of Things (IoT) development.  The training day will include VT’s global partners\, SIGFOX\, EBV Elektronik\, Atmel and OnSemi\, global players in the technology space. Among the goodies on offer are tutorials and a free development kit to allow businesses to develop IoT business products for customers. Registration is required for this free event. \n
URL:https://bizplus.ie/event/internet-of-things-training-day/
END:VEVENT
END:VCALENDAR