BEGIN:VCALENDAR
VERSION:2.0
PRODID:-//BizPlus - ECPv4.6.2//NONSGML v1.0//EN
CALSCALE:GREGORIAN
METHOD:PUBLISH
X-WR-CALNAME:BizPlus
X-ORIGINAL-URL:https://bizplus.ie
X-WR-CALDESC:Events for BizPlus
BEGIN:VEVENT
DTSTART;TZID=Europe/Dublin:20160518T180000
DTEND;TZID=Europe/Dublin:20160518T210000
DTSTAMP:20171025T153002
CREATED:20160509T154339Z
LAST-MODIFIED:20160509T154339Z
UID:19055-1463594400-1463605200@bizplus.ie
SUMMARY:International Energy Research Centre Conference
DESCRIPTION:The fifth annual International Energy Research Centre (IERC) Conference will welcome a host of Irish and international experts energy experts\, to discuss topics under the theme of ‘delivering a low-carbon future: transformative technologies and trends. IERC is an industry-led research centre\, funded by the Irish government. Tickets for the conference only cost €70; conference and dinner (on May 17) attendance costs €95. \n
URL:https://bizplus.ie/event/international-energy-research-centre-conference/
LOCATION:Point Village\, \, Dublin 1
GEO:53.3484894;-6.2301646
X-APPLE-STRUCTURED-LOCATION;VALUE=URI;X-ADDRESS=Point Village  Dublin 1;X-APPLE-RADIUS=500;X-TITLE=Point Village\,:geo:-6.2301646,53.3484894
END:VEVENT
END:VCALENDAR