BEGIN:VCALENDAR
VERSION:2.0
PRODID:-//BizPlus - ECPv4.6.2//NONSGML v1.0//EN
CALSCALE:GREGORIAN
METHOD:PUBLISH
X-WR-CALNAME:BizPlus
X-ORIGINAL-URL:https://bizplus.ie
X-WR-CALDESC:Events for BizPlus
BEGIN:VEVENT
DTSTART;TZID=Europe/Dublin:20160303T090000
DTEND;TZID=Europe/Dublin:20160303T130000
DTSTAMP:20171025T145827
CREATED:20160107T151145Z
LAST-MODIFIED:20160204T121535Z
UID:13236-1456995600-1457010000@bizplus.ie
SUMMARY:Intellectual Property Conference
DESCRIPTION:Organised by Ashville Media Group\, this half-day conference will discuss the latest issues and developments in intellectual property law. Speakers will include David Brophy\, partner and patent attorney with William Fry. Tickets cost €250 each. \n
URL:https://bizplus.ie/event/intellectual-property-conference/
LOCATION:Pearse Street\, \, Dublin 2.
GEO:53.2760129;-6.1384568
X-APPLE-STRUCTURED-LOCATION;VALUE=URI;X-ADDRESS=Pearse Street  Dublin 2.;X-APPLE-RADIUS=500;X-TITLE=Pearse Street\,:geo:-6.1384568,53.2760129
CATEGORIES:Conference
END:VEVENT
END:VCALENDAR