BEGIN:VCALENDAR
VERSION:2.0
PRODID:-//BizPlus - ECPv4.6.2//NONSGML v1.0//EN
CALSCALE:GREGORIAN
METHOD:PUBLISH
X-WR-CALNAME:BizPlus
X-ORIGINAL-URL:https://bizplus.ie
X-WR-CALDESC:Events for BizPlus
BEGIN:VEVENT
DTSTART;TZID=Europe/Dublin:20160804T180000
DTEND;TZID=Europe/Dublin:20160804T203000
DTSTAMP:20171025T160144
CREATED:20160711T131312Z
LAST-MODIFIED:20160711T131312Z
UID:22033-1470333600-1470342600@bizplus.ie
SUMMARY:InDesign Coaching for Newbies and Veterans
DESCRIPTION:This free event will be hosted by Adobe Certified Instructor for InDesign\, Daniel Walter Scott\, to help those who work with InDesign become more familiar with the software. The meetup will be an event of two halves. The first part will cover InDesign basics and the second part will have more serious tips. You can register here. \n
URL:https://bizplus.ie/event/indesign-coaching-for-newbies-and-veterans/
LOCATION:54 Merrion Square South\, \, Dublin 2
GEO:53.338222;-6.2482775
X-APPLE-STRUCTURED-LOCATION;VALUE=URI;X-ADDRESS=54 Merrion Square South  Dublin 2;X-APPLE-RADIUS=500;X-TITLE=54 Merrion Square South\,:geo:-6.2482775,53.338222
END:VEVENT
END:VCALENDAR