BEGIN:VCALENDAR
VERSION:2.0
PRODID:-//BizPlus - ECPv4.6.2//NONSGML v1.0//EN
CALSCALE:GREGORIAN
METHOD:PUBLISH
X-WR-CALNAME:BizPlus
X-ORIGINAL-URL:https://bizplus.ie
X-WR-CALDESC:Events for BizPlus
BEGIN:VEVENT
DTSTART;TZID=Europe/Dublin:20160415T080000
DTEND;TZID=Europe/Dublin:20160417T170000
DTSTAMP:20171025T151118
CREATED:20160226T144008Z
LAST-MODIFIED:20160226T144346Z
UID:15531-1460707200-1460912400@bizplus.ie
SUMMARY:Ideal Home Show
DESCRIPTION:The permanent tsb Ideal Home Show will include demonstrations on home improvement\, as well as entertainment and other attractions. Specific areas will deal with interior design\, exterior design\, energy and technology advice\, tax breaks and more. Standard tickets cost €15. \n
URL:https://bizplus.ie/event/ideal-home-show/
LOCATION:Ballsbridge\,\, Dublin 4
GEO:53.3332893;-6.2371981
X-APPLE-STRUCTURED-LOCATION;VALUE=URI;X-ADDRESS=Ballsbridge Dublin 4;X-APPLE-RADIUS=500;X-TITLE=Ballsbridge\,:geo:-6.2371981,53.3332893
END:VEVENT
END:VCALENDAR