BEGIN:VCALENDAR
VERSION:2.0
PRODID:-//BizPlus - ECPv4.6.2//NONSGML v1.0//EN
CALSCALE:GREGORIAN
METHOD:PUBLISH
X-WR-CALNAME:BizPlus
X-ORIGINAL-URL:https://bizplus.ie
X-WR-CALDESC:Events for BizPlus
BEGIN:VEVENT
DTSTART;TZID=Europe/Dublin:20160518T080000
DTEND;TZID=Europe/Dublin:20160520T170000
DTSTAMP:20171025T152933
CREATED:20160407T151222Z
LAST-MODIFIED:20160407T151222Z
UID:17594-1463558400-1463763600@bizplus.ie
SUMMARY:ICMA AGM & Conference 2016
DESCRIPTION:International Capital Market Association’s AGM and conference will bring together global financial players to discuss market and regulatory developments. Tickets beyond free allowances for member firms cost €1\,200 plus VAT. Non-members pay €2\,500 plus VAT. \n
URL:https://bizplus.ie/event/icma-agm-conference-2016/
LOCATION:North Wall Quay\,\, Dublin 1
GEO:53.3481341;-6.2450651
X-APPLE-STRUCTURED-LOCATION;VALUE=URI;X-ADDRESS=North Wall Quay Dublin 1;X-APPLE-RADIUS=500;X-TITLE=North Wall Quay\,:geo:-6.2450651,53.3481341
END:VEVENT
END:VCALENDAR