BEGIN:VCALENDAR
VERSION:2.0
PRODID:-//BizPlus - ECPv4.6.2//NONSGML v1.0//EN
CALSCALE:GREGORIAN
METHOD:PUBLISH
X-WR-CALNAME:BizPlus
X-ORIGINAL-URL:https://bizplus.ie
X-WR-CALDESC:Events for BizPlus
BEGIN:VEVENT
DTSTART;TZID=Europe/Dublin:20160211T090000
DTEND;TZID=Europe/Dublin:20160212T123000
DTSTAMP:20171025T145105
CREATED:20151208T160414Z
LAST-MODIFIED:20151208T160702Z
UID:12424-1455181200-1455280200@bizplus.ie
SUMMARY:'I Wish' Conference
DESCRIPTION:The aim of this two-day conference and interactive exhibition is to encourage and motivate secondary school female students to pursue careers in STEM (science\, technology\, engineering and maths). The conference will also feature workshops\, daily keynotes and engaging talks by women who are at the top of their field in STEM. Speakers taking part include doctor and TV presenter Pixie McKenna\, Mary Moloney\, CEO of CoderDojo Foundation\, and Geraldine Boylan\, a professor of neonatal physiology in UCC. \n
URL:https://bizplus.ie/event/i-wish-conference/
LOCATION:Angelsea Street\, \, Cork
GEO:51.8954076;-8.4653529
X-APPLE-STRUCTURED-LOCATION;VALUE=URI;X-ADDRESS=Angelsea Street  Cork;X-APPLE-RADIUS=500;X-TITLE=Angelsea Street\,:geo:-8.4653529,51.8954076
CATEGORIES:Conference
END:VEVENT
END:VCALENDAR