BEGIN:VCALENDAR
VERSION:2.0
PRODID:-//BizPlus - ECPv4.6.2//NONSGML v1.0//EN
CALSCALE:GREGORIAN
METHOD:PUBLISH
X-WR-CALNAME:BizPlus
X-ORIGINAL-URL:https://bizplus.ie
X-WR-CALDESC:Events for BizPlus
BEGIN:VEVENT
DTSTART;VALUE=DATE:20160520
DTEND;VALUE=DATE:20160523
DTSTAMP:20171025T153105
CREATED:20150630T083527Z
LAST-MODIFIED:20150701T091629Z
UID:3722-1463702400-1463961599@bizplus.ie
SUMMARY:House 2016
DESCRIPTION:Like most media outlets\, Independent News and Media (INM) has an in-house style guide\, but INM is providing a literal application with this new event. House 2016 is an interiors exhibition and showcase\, which will draw on the expertise of designers\, architects\, furniture and fit-out suppliers\, home improvement specialists and others for three days of demos\, masterclasses and advice clinics. The interiors show will be trends-focused and replete with stylish products. \n
URL:https://bizplus.ie/event/house-2016/
LOCATION:Ballsbridge\,\, Dublin 4
GEO:53.3332893;-6.2371981
X-APPLE-STRUCTURED-LOCATION;VALUE=URI;X-ADDRESS=Ballsbridge Dublin 4;X-APPLE-RADIUS=500;X-TITLE=Ballsbridge\,:geo:-6.2371981,53.3332893
END:VEVENT
END:VCALENDAR