BEGIN:VCALENDAR
VERSION:2.0
PRODID:-//BizPlus - ECPv4.6.2//NONSGML v1.0//EN
CALSCALE:GREGORIAN
METHOD:PUBLISH
X-WR-CALNAME:BizPlus
X-ORIGINAL-URL:https://bizplus.ie
X-WR-CALDESC:Events for BizPlus
BEGIN:VEVENT
DTSTART;TZID=Europe/Dublin:20160511T100000
DTEND;TZID=Europe/Dublin:20160511T163000
DTSTAMP:20171025T152625
CREATED:20160420T102250Z
LAST-MODIFIED:20160420T102250Z
UID:18177-1462960800-1462984200@bizplus.ie
SUMMARY:Graphite HRM Mid-Year Review Conference
DESCRIPTION:Graphite HRM’s mid-year review is aimed at HR practitioners and anyone with management responsibilities. It will cover the most prominent areas affecting the HR industry\, including data protection in the workplace\, social media usage and the future of HR in business. Tickets cost €225 for Graphite clients\, €300 for non-clients and €100 for charities. \n
URL:https://bizplus.ie/event/graphite-hrm-mid-year-review-conference/
LOCATION:Clondalkin\, \, Dublin 22
GEO:53.3210556;-6.3939812
X-APPLE-STRUCTURED-LOCATION;VALUE=URI;X-ADDRESS=Clondalkin  Dublin 22;X-APPLE-RADIUS=500;X-TITLE=Clondalkin\,:geo:-6.3939812,53.3210556
END:VEVENT
END:VCALENDAR