BEGIN:VCALENDAR
VERSION:2.0
PRODID:-//BizPlus - ECPv4.6.2//NONSGML v1.0//EN
CALSCALE:GREGORIAN
METHOD:PUBLISH
X-WR-CALNAME:BizPlus
X-ORIGINAL-URL:https://bizplus.ie
X-WR-CALDESC:Events for BizPlus
BEGIN:VEVENT
DTSTART;TZID=Europe/Dublin:20160531T090000
DTEND;TZID=Europe/Dublin:20160531T170000
DTSTAMP:20171025T153648
CREATED:20160418T140938Z
LAST-MODIFIED:20160418T140938Z
UID:18084-1464685200-1464714000@bizplus.ie
SUMMARY:FutureScope
DESCRIPTION:This tech event  is designed as a catalyst for engagement and collaboration between Ireland’s entrepreneurial community and innovative multinational companies based in Ireland. It is being organised by Dublin Business Innovation Centre and is promising an engaging series of speakers\, among them ex-Realex Payments chief Colm Lyon\, as well as Dave O’Flanagan from Boxever and John Hurley from Ryanair. The event will comprise panel discussions\, innovation showcases\, tech demos and structured networking. Full-price tickets cost €189 and there are early-bird options available also. \n
URL:https://bizplus.ie/event/futurescope/
LOCATION:North Wall Quay\,\, Dublin 1
GEO:53.3481341;-6.2450651
X-APPLE-STRUCTURED-LOCATION;VALUE=URI;X-ADDRESS=North Wall Quay Dublin 1;X-APPLE-RADIUS=500;X-TITLE=North Wall Quay\,:geo:-6.2450651,53.3481341
END:VEVENT
END:VCALENDAR