BEGIN:VCALENDAR
VERSION:2.0
PRODID:-//BizPlus - ECPv4.6.2//NONSGML v1.0//EN
CALSCALE:GREGORIAN
METHOD:PUBLISH
X-WR-CALNAME:BizPlus
X-ORIGINAL-URL:https://bizplus.ie
X-WR-CALDESC:Events for BizPlus
BEGIN:VEVENT
DTSTART;TZID=Europe/Dublin:20160427T084500
DTEND;TZID=Europe/Dublin:20160427T170000
DTSTAMP:20171025T151651
CREATED:20160303T142753Z
LAST-MODIFIED:20160303T142753Z
UID:15919-1461746700-1461776400@bizplus.ie
SUMMARY:Future of Banking and Financial Services Summit
DESCRIPTION:This Sunday Business Post event is an expansion on The Future Bank Summit of the last two years\, extended now to incorporate the whole financial services industry and not just banking. The primary focus of this year’s event is the need of the industry to adapt business models to exceed the expectations of customers and investors\, and to prosper in the new digital environment. The summit will also examine the regulatory climate and the impact and ‘disruption’ of new entrants to the industry. \nSpeakers taking part in the summit include Realex Payments founder\, Colm Lyon\, as well as Giuseppe Insalaco\, senior advisor for the Central Bank of Ireland and Anthony Watson\, president and CEO of Uphold\, USA. Standard tickets cost €495 plus VAT. \n
URL:https://bizplus.ie/event/future-of-banking-and-financial-services-summit/
LOCATION:Point Village\, \, Dublin 1
GEO:53.3484894;-6.2301646
X-APPLE-STRUCTURED-LOCATION;VALUE=URI;X-ADDRESS=Point Village  Dublin 1;X-APPLE-RADIUS=500;X-TITLE=Point Village\,:geo:-6.2301646,53.3484894
CATEGORIES:Finance
END:VEVENT
END:VCALENDAR