BEGIN:VCALENDAR
VERSION:2.0
PRODID:-//BizPlus - ECPv4.6.2//NONSGML v1.0//EN
CALSCALE:GREGORIAN
METHOD:PUBLISH
X-WR-CALNAME:BizPlus
X-ORIGINAL-URL:https://bizplus.ie
X-WR-CALDESC:Events for BizPlus
BEGIN:VEVENT
DTSTART;TZID=Europe/Dublin:20160224T080000
DTEND;TZID=Europe/Dublin:20160224T163000
DTSTAMP:20171025T145314
CREATED:20160115T114726Z
LAST-MODIFIED:20160115T114812Z
UID:13495-1456300800-1456331400@bizplus.ie
SUMMARY:Future In Pharmaceuticals Ireland
DESCRIPTION:Over 300 members of the Irish pharmaceutical processing sector are expected to attend this industry event. Topics up for discussion include sustainable pharmaceutical processing as it applies to energy\, waste\, water and CO2. Presentations will be heard from an array to big pharma firms\, including Pfizer\, AbbVie Ireland\, Merck MSD\, Johnson & Johnson and Amgen. Early bird tickets\, which are on sale until January 29\, cost around €237. \n
URL:https://bizplus.ie/event/future-in-pharmaceuticals-ireland/
LOCATION:Jones' Road\, \, Dublin 3
GEO:53.3625281;-6.2523783
X-APPLE-STRUCTURED-LOCATION;VALUE=URI;X-ADDRESS=Jones' Road  Dublin 3;X-APPLE-RADIUS=500;X-TITLE=Jones' Road\,:geo:-6.2523783,53.3625281
CATEGORIES:Conference
END:VEVENT
END:VCALENDAR