BEGIN:VCALENDAR
VERSION:2.0
PRODID:-//BizPlus - ECPv4.6.2//NONSGML v1.0//EN
CALSCALE:GREGORIAN
METHOD:PUBLISH
X-WR-CALNAME:BizPlus
X-ORIGINAL-URL:https://bizplus.ie
X-WR-CALDESC:Events for BizPlus
BEGIN:VEVENT
DTSTART;TZID=Europe/Dublin:20160608T180000
DTEND;TZID=Europe/Dublin:20160608T203000
DTSTAMP:20171025T154038
CREATED:20160505T152348Z
LAST-MODIFIED:20160505T152348Z
UID:18883-1465408800-1465417800@bizplus.ie
SUMMARY:'Fuelling Ambition Roadshow' Limerick
DESCRIPTION:Enterprise Ireland and Network Ireland are behind this event\, the penultimate in a series of five free nationwide roadshows targeting female entrepreneurs. The aim of the events is to encourage female entrepreneurs\, or those considering starting their own business\, to be braver and more ambitious in their plans for growth and success. Attendees at the Limerick event will hear from Martina Skelly\, co-founder and CEO of YellowSchedule\, about what that means in practice. \n
URL:https://bizplus.ie/event/fuelling-ambition-roadshow-limerick/
LOCATION:Henry Street\, \, LImerick City
GEO:52.6605826;-8.6320901
X-APPLE-STRUCTURED-LOCATION;VALUE=URI;X-ADDRESS=Henry Street  LImerick City;X-APPLE-RADIUS=500;X-TITLE=Henry Street\,:geo:-8.6320901,52.6605826
END:VEVENT
END:VCALENDAR