BEGIN:VCALENDAR
VERSION:2.0
PRODID:-//BizPlus - ECPv4.6.2//NONSGML v1.0//EN
CALSCALE:GREGORIAN
METHOD:PUBLISH
X-WR-CALNAME:BizPlus
X-ORIGINAL-URL:https://bizplus.ie
X-WR-CALDESC:Events for BizPlus
BEGIN:VEVENT
DTSTART;TZID=Europe/Dublin:20160616T120000
DTEND;TZID=Europe/Dublin:20160616T143000
DTSTAMP:20171025T154417
CREATED:20160505T144616Z
LAST-MODIFIED:20160505T144616Z
UID:18876-1466078400-1466087400@bizplus.ie
SUMMARY:FSI Annual Lunch 2016
DESCRIPTION:The Financial Services Ireland\, which is part of Ibec\, will welcome Central Bank Governor Philip Lane as special guest and keynote speaker for its annual lunch. Seats cost €75 plus VAT and a table of ten costs €680 plus VAT. \n
URL:https://bizplus.ie/event/fsi-annual-lunch-2016/
LOCATION:St Stephen's Green\, \, Dublin 2
GEO:53.3398353;-6.2602941
X-APPLE-STRUCTURED-LOCATION;VALUE=URI;X-ADDRESS=St Stephen's Green  Dublin 2;X-APPLE-RADIUS=500;X-TITLE=St Stephen's Green\,:geo:-6.2602941,53.3398353
END:VEVENT
END:VCALENDAR