BEGIN:VCALENDAR
VERSION:2.0
PRODID:-//BizPlus - ECPv4.6.2//NONSGML v1.0//EN
CALSCALE:GREGORIAN
METHOD:PUBLISH
X-WR-CALNAME:BizPlus
X-ORIGINAL-URL:https://bizplus.ie
X-WR-CALDESC:Events for BizPlus
BEGIN:VEVENT
DTSTART;TZID=Europe/Dublin:20160512T100000
DTEND;TZID=Europe/Dublin:20160512T170000
DTSTAMP:20171025T152836
CREATED:20160505T110949Z
LAST-MODIFIED:20160505T110949Z
UID:18849-1463047200-1463072400@bizplus.ie
SUMMARY:Free Market Road Show
DESCRIPTION:This free event\, which is organised by the Austrian Economics Centre in Vienna and is being hosted in Ireland by the Hibernia Forum\, is touring 45 cities between March and May. It brings together leading business people\, academic experts and various officials from across Europe to discuss matters of European interest. For its Dublin outing\, the first part of the roadshow deals with international tax issues\, while the second part will focus on entrepreneurship and the new ‘shared economies’. \n
URL:https://bizplus.ie/event/free-market-road-show/
LOCATION:St Stephen's Green\, \, Dublin 2
GEO:53.3398353;-6.2602941
X-APPLE-STRUCTURED-LOCATION;VALUE=URI;X-ADDRESS=St Stephen's Green  Dublin 2;X-APPLE-RADIUS=500;X-TITLE=St Stephen's Green\,:geo:-6.2602941,53.3398353
END:VEVENT
END:VCALENDAR