BEGIN:VCALENDAR
VERSION:2.0
PRODID:-//BizPlus - ECPv4.6.2//NONSGML v1.0//EN
CALSCALE:GREGORIAN
METHOD:PUBLISH
X-WR-CALNAME:BizPlus
X-ORIGINAL-URL:https://bizplus.ie
X-WR-CALDESC:Events for BizPlus
BEGIN:VEVENT
DTSTART;TZID=Europe/Dublin:20160721T080000
DTEND;TZID=Europe/Dublin:20160721T130000
DTSTAMP:20171025T155953
CREATED:20160531T094005Z
LAST-MODIFIED:20160531T094005Z
UID:19805-1469088000-1469106000@bizplus.ie
SUMMARY:Fit Out Conference 2016
DESCRIPTION:This half-day conference returns following the success of the event last year. Sponsored by the Sunday Business Post\, it is particularly aimed at fit-out professionals\, architects and construction specialists in Ireland. Chaired by Andrew McCracken of Jones Lang LaSalle\, the conference provides a forum to dissect the sectors fuelling the demand in Ireland. It will also discuss the rise of the ‘new build’ and global design practices of key cities like Dublin\, London and New York. Panel engagements and interactive formats are also on the schedule. Tickets cost €195. \n
URL:https://bizplus.ie/event/fit-out-conference-2016/
LOCATION:Grand Canal Square\,\, Dublin 2
GEO:53.3404596;-6.2431859
X-APPLE-STRUCTURED-LOCATION;VALUE=URI;X-ADDRESS=Grand Canal Square Dublin 2;X-APPLE-RADIUS=500;X-TITLE=Grand Canal Square\,:geo:-6.2431859,53.3404596
END:VEVENT
END:VCALENDAR