BEGIN:VCALENDAR
VERSION:2.0
PRODID:-//BizPlus - ECPv4.6.2//NONSGML v1.0//EN
CALSCALE:GREGORIAN
METHOD:PUBLISH
X-WR-CALNAME:BizPlus
X-ORIGINAL-URL:https://bizplus.ie
X-WR-CALDESC:Events for BizPlus
BEGIN:VEVENT
DTSTART;TZID=Europe/Dublin:20160412T073000
DTEND;TZID=Europe/Dublin:20160412T133000
DTSTAMP:20171025T150955
CREATED:20160226T154751Z
LAST-MODIFIED:20160226T154751Z
UID:15541-1460446200-1460467800@bizplus.ie
SUMMARY:Family Business Conference
DESCRIPTION:Organised by the DCU Centre for Family Business\, this conference will look at how to attract\, nurture and retain family and non-family employees\, as well as how and when to get non-family involved and the option of non-family CEO and board members in family business. The keynote speaker is Jim Ethier\, a third generation family member of Bush Brothers & Co\, the big US food manufacturer. Tickets for family business attendees cost €50; non-family business attendees pay €100. \n
URL:https://bizplus.ie/event/family-business-conference/
LOCATION:Glasnevin\, \, Dublin 9
GEO:53.3630556;-6.2707389
X-APPLE-STRUCTURED-LOCATION;VALUE=URI;X-ADDRESS=Glasnevin  Dublin 9;X-APPLE-RADIUS=500;X-TITLE=Glasnevin\,:geo:-6.2707389,53.3630556
CATEGORIES:Conference
END:VEVENT
END:VCALENDAR