BEGIN:VCALENDAR
VERSION:2.0
PRODID:-//BizPlus - ECPv4.6.2//NONSGML v1.0//EN
CALSCALE:GREGORIAN
METHOD:PUBLISH
X-WR-CALNAME:BizPlus
X-ORIGINAL-URL:https://bizplus.ie
X-WR-CALDESC:Events for BizPlus
BEGIN:VEVENT
DTSTART;TZID=Europe/Dublin:20160509T090000
DTEND;TZID=Europe/Dublin:20160510T170000
DTSTAMP:20171025T152407
CREATED:20160321T142704Z
LAST-MODIFIED:20160321T142704Z
UID:16651-1462784400-1462899600@bizplus.ie
SUMMARY:Executive PA Forum 2016
DESCRIPTION:Hosted by sisters Fiona and Aisling Kelly\, this forum will provide learning and networking opportunities for executive assistants\, personal assistants\, office managers\, administrators and anyone working in support roles. The keynote speaker for the event is Zelda la Grange\, former PA to Nelson Mandela. Workshops will also be held in project management and business writing for PAs. Tickets cost €152. \n
URL:https://bizplus.ie/event/executive-pa-forum-2016/
LOCATION:Jones' Road\, \, Dublin 3
GEO:53.3625281;-6.2523783
X-APPLE-STRUCTURED-LOCATION;VALUE=URI;X-ADDRESS=Jones' Road  Dublin 3;X-APPLE-RADIUS=500;X-TITLE=Jones' Road\,:geo:-6.2523783,53.3625281
END:VEVENT
END:VCALENDAR