BEGIN:VCALENDAR
VERSION:2.0
PRODID:-//BizPlus - ECPv4.6.2//NONSGML v1.0//EN
CALSCALE:GREGORIAN
METHOD:PUBLISH
X-WR-CALNAME:BizPlus
X-ORIGINAL-URL:https://bizplus.ie
X-WR-CALDESC:Events for BizPlus
BEGIN:VEVENT
DTSTART;TZID=Europe/Dublin:20160225T090000
DTEND;TZID=Europe/Dublin:20160225T120000
DTSTAMP:20171025T145418
CREATED:20160208T115131Z
LAST-MODIFIED:20160208T115131Z
UID:14301-1456390800-1456401600@bizplus.ie
SUMMARY:Executive Briefing: Microsoft Dynamics CRM
DESCRIPTION:This free event is being organised by ProStrategy and will detail the benefits of using Microsoft Dynamics CRM software in business. It will explain how to use the Microsoft platform to capture and record customer information. measure marketing campaigns and provide end-to-end sales pipeline management. \n
URL:https://bizplus.ie/event/executive-briefing-microsoft-dynamics-crm/
LOCATION:Lapp's Quay\, \, Cork
GEO:51.8983104;-8.4653205
X-APPLE-STRUCTURED-LOCATION;VALUE=URI;X-ADDRESS=Lapp's Quay  Cork;X-APPLE-RADIUS=500;X-TITLE=Lapp's Quay\,:geo:-8.4653205,51.8983104
END:VEVENT
END:VCALENDAR