BEGIN:VCALENDAR
VERSION:2.0
PRODID:-//BizPlus - ECPv4.6.2//NONSGML v1.0//EN
CALSCALE:GREGORIAN
METHOD:PUBLISH
X-WR-CALNAME:BizPlus
X-ORIGINAL-URL:https://bizplus.ie
X-WR-CALDESC:Events for BizPlus
BEGIN:VEVENT
DTSTART;TZID=Europe/Dublin:20160316T080000
DTEND;TZID=Europe/Dublin:20160316T080000
DTSTAMP:20171025T150547
CREATED:20160129T150343Z
LAST-MODIFIED:20160129T150343Z
UID:13971-1458115200-1458115200@bizplus.ie
SUMMARY:European Insurance Forum 2016
DESCRIPTION:Organised by the Dublin International Insurance and Management Association (DIMA)\, the forum is running with the theme ‘The Road To Risk Revolution’ for its 2016 outing. Speakers will variously discuss how to use available resources to revolutionise how the sector deals with the future risk landscape. \nA full day of insurance-themed discussion awaits delegates\, followed by a night of entertainment\, with dinner\, drama and shenanigans from ‘mentalist’ David Meade. Standard tickets are priced at just over €1\,500 including VAT. \n
URL:https://bizplus.ie/event/european-insurance-forum-2016/
LOCATION:Military Road\,\, Dublin 8
GEO:53.2524425;-6.1226475
X-APPLE-STRUCTURED-LOCATION;VALUE=URI;X-ADDRESS=Military Road Dublin 8;X-APPLE-RADIUS=500;X-TITLE=Military Road\,:geo:-6.1226475,53.2524425
CATEGORIES:Conference
END:VEVENT
END:VCALENDAR