BEGIN:VCALENDAR
VERSION:2.0
PRODID:-//BizPlus - ECPv4.6.2//NONSGML v1.0//EN
CALSCALE:GREGORIAN
METHOD:PUBLISH
X-WR-CALNAME:BizPlus
X-ORIGINAL-URL:https://bizplus.ie
X-WR-CALDESC:Events for BizPlus
BEGIN:VEVENT
DTSTART;TZID=Europe/Dublin:20171101T080000
DTEND;TZID=Europe/Dublin:20171101T170000
DTSTAMP:20171105T151430
CREATED:20170904T085403Z
LAST-MODIFIED:20170904T085403Z
UID:40999-1509523200-1509555600@bizplus.ie
SUMMARY:Dublin Information Sec 2017
DESCRIPTION:The second annual outing for the cyber security conference\, which is sponsored by eir Business. It will highlight cyber security trends and threats facing business in Ireland and the technologies to protect against them. Specialists in the industry will update businesses on the issues of data security\, ransomware\, attacks within the Internet of Things (IoT) and the human factor in data breaches\, looking at these areas in the context of the upcoming General Data Protection Regulation (GDPR). \nSpeakers confirmed so far for Dublin Information Sec 2017 include Rik Ferguson\, global VP of security research with Trend Micro. Ticket €350. \n
URL:https://bizplus.ie/event/dublin-information-sec-2017/
LOCATION:Ballsbridge\,\, Dublin 4
GEO:53.3332893;-6.2371981
X-APPLE-STRUCTURED-LOCATION;VALUE=URI;X-ADDRESS=Ballsbridge Dublin 4;X-APPLE-RADIUS=500;X-TITLE=Ballsbridge\,:geo:-6.2371981,53.3332893
END:VEVENT
END:VCALENDAR