BEGIN:VCALENDAR
VERSION:2.0
PRODID:-//BizPlus - ECPv4.6.2//NONSGML v1.0//EN
CALSCALE:GREGORIAN
METHOD:PUBLISH
X-WR-CALNAME:BizPlus
X-ORIGINAL-URL:https://bizplus.ie
X-WR-CALDESC:Events for BizPlus
BEGIN:VEVENT
DTSTART;TZID=Europe/Dublin:20160308T173000
DTEND;TZID=Europe/Dublin:20160308T210000
DTSTAMP:20171025T150013
CREATED:20160129T144358Z
LAST-MODIFIED:20160129T144358Z
UID:13969-1457458200-1457470800@bizplus.ie
SUMMARY:Dublin Chamber: Women's Day Celebration
DESCRIPTION:The Enterprise Europe Network at Dublin Chamber of Commerce\, Dublin City and Dun Laoghaire-Rathdown County Enterprise Boards\, as well as the LEO’s Women in Business Networks\, are organising this free annual International Women’s Day event. The lineup of speakers has yet to be announced. \n
URL:https://bizplus.ie/event/dublin-chamber-womens-day-celebration/
LOCATION:Merrion Street Lower\, \, Dublin 2
GEO:53.3413971;-6.2509991
X-APPLE-STRUCTURED-LOCATION;VALUE=URI;X-ADDRESS=Merrion Street Lower  Dublin 2;X-APPLE-RADIUS=500;X-TITLE=Merrion Street Lower\,:geo:-6.2509991,53.3413971
END:VEVENT
END:VCALENDAR