BEGIN:VCALENDAR
VERSION:2.0
PRODID:-//BizPlus - ECPv4.6.2//NONSGML v1.0//EN
CALSCALE:GREGORIAN
METHOD:PUBLISH
X-WR-CALNAME:BizPlus
X-ORIGINAL-URL:https://bizplus.ie
X-WR-CALDESC:Events for BizPlus
BEGIN:VEVENT
DTSTART;TZID=Europe/Dublin:20160204T183000
DTEND;TZID=Europe/Dublin:20160204T220000
DTSTAMP:20171025T144706
CREATED:20160107T111403Z
LAST-MODIFIED:20160107T111403Z
UID:13223-1454610600-1454623200@bizplus.ie
SUMMARY:Dublin Chamber AGM Dinner
DESCRIPTION:Dublin Chamber’s AGM dinner attendees will hear from guest speaker Siobhán Talbot\, group MD of Glanbia. Tickets for the event are priced at €175 per person or €2\,100 for a table of 12. \n
URL:https://bizplus.ie/event/dublin-chamber-agm-dinner/
LOCATION:Ballsbridge\, \, Dublin 4
GEO:53.3332893;-6.2371981
X-APPLE-STRUCTURED-LOCATION;VALUE=URI;X-ADDRESS=Ballsbridge  Dublin 4;X-APPLE-RADIUS=500;X-TITLE=Ballsbridge\,:geo:-6.2371981,53.3332893
END:VEVENT
END:VCALENDAR