BEGIN:VCALENDAR
VERSION:2.0
PRODID:-//BizPlus - ECPv4.6.2//NONSGML v1.0//EN
CALSCALE:GREGORIAN
METHOD:PUBLISH
X-WR-CALNAME:BizPlus
X-ORIGINAL-URL:https://bizplus.ie
X-WR-CALDESC:Events for BizPlus
BEGIN:VEVENT
DTSTART;TZID=Europe/Dublin:20160309T090000
DTEND;TZID=Europe/Dublin:20160309T170000
DTSTAMP:20171025T150153
CREATED:20160229T115610Z
LAST-MODIFIED:20160229T115610Z
UID:15617-1457514000-1457542800@bizplus.ie
SUMMARY:DMX Dublin 2016
DESCRIPTION:Organised by the Marketing Institute of Ireland\, this digital marketing conference will feature over 30 speakers in multiple presentation streams\, and 800 marketing professionals attendees. The keynote speaker is Yuri Van Geest\, a boardroom consultant and bestselling author. Tickets cost €450 for non-MII members and €350 for members. \n
URL:https://bizplus.ie/event/dmx-dublin-2016/
LOCATION:Lansdowne Road\,\, Dublin 4
GEO:53.3338239;-6.2289913
X-APPLE-STRUCTURED-LOCATION;VALUE=URI;X-ADDRESS=Lansdowne Road Dublin 4;X-APPLE-RADIUS=500;X-TITLE=Lansdowne Road\,:geo:-6.2289913,53.3338239
END:VEVENT
END:VCALENDAR