BEGIN:VCALENDAR
VERSION:2.0
PRODID:-//BizPlus - ECPv4.6.2//NONSGML v1.0//EN
CALSCALE:GREGORIAN
METHOD:PUBLISH
X-WR-CALNAME:BizPlus
X-ORIGINAL-URL:https://bizplus.ie
X-WR-CALDESC:Events for BizPlus
BEGIN:VEVENT
DTSTART;TZID=Europe/Dublin:20160407T090000
DTEND;TZID=Europe/Dublin:20160407T170000
DTSTAMP:20171025T150738
CREATED:20160129T095024Z
LAST-MODIFIED:20160129T095024Z
UID:13930-1460019600-1460048400@bizplus.ie
SUMMARY:DigiCon Cork
DESCRIPTION:This inaugural conference makes the bold claim to be “Ireland’s biggest digital conference for SMEs”. It is being organised by a company called Digicon Media\, set up in December 2015\, which describes itself as “a new\, dynamic\, innovative thinking company that sees Cork as becoming a leader in the space of real and relevant digital conferences”. \nThe conference is aimed primarily at SMEs that want to grow their business online. Speakers lined up so far include David Harris\, head of Facebook’s service and sales team for SME\, EMEA\, and Graham Barry\, EMEA brand lead\, products and solutions\, with YouTube. Other speakers hail from Google and PayPal. Early-bird tickets cost €245 each; the normal price is €295. \n
URL:https://bizplus.ie/event/digicon-cork/
LOCATION:Angelsea Street\, \, Cork
GEO:51.8954076;-8.4653529
X-APPLE-STRUCTURED-LOCATION;VALUE=URI;X-ADDRESS=Angelsea Street  Cork;X-APPLE-RADIUS=500;X-TITLE=Angelsea Street\,:geo:-8.4653529,51.8954076
CATEGORIES:Conference,Technology
END:VEVENT
END:VCALENDAR