BEGIN:VCALENDAR
VERSION:2.0
PRODID:-//BizPlus - ECPv4.6.2//NONSGML v1.0//EN
CALSCALE:GREGORIAN
METHOD:PUBLISH
X-WR-CALNAME:BizPlus
X-ORIGINAL-URL:https://bizplus.ie
X-WR-CALDESC:Events for BizPlus
BEGIN:VEVENT
DTSTART;TZID=Europe/Dublin:20160205T170000
DTEND;TZID=Europe/Dublin:20160207T190000
DTSTAMP:20171025T144731
CREATED:20151204T154547Z
LAST-MODIFIED:20160108T101654Z
UID:12237-1454691600-1454871600@bizplus.ie
SUMMARY:Craft Brews and Food Fair
DESCRIPTION:The Alltech Craft Brews and Food Fair returns for the fourth time to the Convention Centre Dublin. It will feature a host of local and international craft beverages as well as local culinary delights. Musical entertainment will be provided by a range of home-grown acts and food producers will be on hand with unique food pairings. Tickets start at €15 and opening/closing times vary over the three days. \n
URL:https://bizplus.ie/event/craft-brews-and-food-fair/
LOCATION:North Wall Quay\,\, Dublin 1
GEO:53.3481341;-6.2450651
X-APPLE-STRUCTURED-LOCATION;VALUE=URI;X-ADDRESS=North Wall Quay Dublin 1;X-APPLE-RADIUS=500;X-TITLE=North Wall Quay\,:geo:-6.2450651,53.3481341
CATEGORIES:Food/Drink
END:VEVENT
END:VCALENDAR